BEGIN:VCALENDAR
PRODID:-//eluceo/ical//2.0/EN
VERSION:2.0
CALSCALE:GREGORIAN
BEGIN:VEVENT
UID:1c06d95f9f7872b90db54d495b4cf750
DTSTAMP:20260420T081406Z
SUMMARY:7:00 pm TBE Men's Club Poker Night May 2019
DESCRIPTION:Shalom Lehigh Valley\nCommunity Calendar\nhttps://shalomlehighv
 alley.org/calendar/700-pm-tbe-mens-club-poker-night-may-2019-290138\n\nMay
  13th  - 7:00 pm - MEN’S CLUB POKER NIGHT\nCome play cards with us\, an
 d bring your friends.  The Men’s Club is sponsoring an evening filled w
 ith refreshments\, a big game on TV\, and card playing!  Enjoy a relaxing
  evening to socialize and snack. This event is open to the entire TBE comm
 unity and beyond\, so feel free to bring guests.  Please RSVP “All-in
 ” to Roy Benasaraf at royben@ptd.net or call 610-216-0190.\n 
DTSTART;TZID=America/New_York:20190513T190000
DTEND;TZID=America/New_York:20190513T223000
END:VEVENT
END:VCALENDAR
