BEGIN:VCALENDAR
PRODID:-//eluceo/ical//2.0/EN
VERSION:2.0
CALSCALE:GREGORIAN
BEGIN:VEVENT
UID:f44958d0700bc94c84ac7deff3dc41d7
DTSTAMP:20260420T205117Z
SUMMARY:7:00 pm TBE Sisterhood Donor Event May 2022
DESCRIPTION:Shalom Lehigh Valley\nCommunity Calendar\nhttps://shalomlehighv
 alley.org/calendar/700-pm-tbe-sisterhood-donor-event-may-2022-396486\n\n7:
 00 pm TBE Sisterhood Donor Event May 2022
DTSTART;TZID=America/New_York:20220525T190000
DTEND;TZID=America/New_York:20220525T210000
END:VEVENT
END:VCALENDAR
