BEGIN:VCALENDAR
PRODID:-//eluceo/ical//2.0/EN
VERSION:2.0
CALSCALE:GREGORIAN
BEGIN:VEVENT
UID:e813c27b8ff7a936a73a46a2f2bbc3a7
DTSTAMP:20260421T175624Z
SUMMARY:7:00pm JDS 8th Grade Graduation
DESCRIPTION:Shalom Lehigh Valley\nCommunity Calendar\nhttps://shalomlehighv
 alley.org/calendar/700pm-jds-8th-grade-graduation-270754\n\nJDS 2019 8th 
 Grade Graduation
DTSTART;TZID=America/New_York:20190613T190000
DTEND;TZID=America/New_York:20190613T203000
END:VEVENT
END:VCALENDAR
