BEGIN:VCALENDAR
PRODID:-//eluceo/ical//2.0/EN
VERSION:2.0
CALSCALE:GREGORIAN
BEGIN:VEVENT
UID:df8c5a66b0bc5ae19cac5b1cf441bea3
DTSTAMP:20260420T010546Z
SUMMARY:7:00 pm JDS 8th Grade Graduation
DESCRIPTION:Shalom Lehigh Valley\nCommunity Calendar\nhttps://shalomlehighv
 alley.org/calendar/700pm-jds-8th-grade-graduation-6-11-18-238353\n\nContac
 t Adrienne Manger: amanger@jdslv.org or 610-437-0721.
DTSTART;TZID=America/New_York:20180611T190000
DTEND;TZID=America/New_York:20180611T210000
END:VEVENT
END:VCALENDAR
