BEGIN:VCALENDAR
PRODID:-//eluceo/ical//2.0/EN
VERSION:2.0
CALSCALE:GREGORIAN
BEGIN:VEVENT
UID:d0b7ac0086fa3f867baab1e6334150b0
DTSTAMP:20260420T041646Z
SUMMARY:7:00 pm JDS Board Meeting 
DESCRIPTION:Shalom Lehigh Valley\nCommunity Calendar\nhttps://shalomlehighv
 alley.org/calendar/700pm-jds-board-meeting-9-10-14-79928\n\nContact Melyss
 a Lentz: mlentz@jdslv.org or 610-437-0721.
DTSTART;TZID=America/New_York:20140910T190000
DTEND;TZID=America/New_York:20140910T210000
END:VEVENT
END:VCALENDAR
