BEGIN:VCALENDAR
PRODID:-//eluceo/ical//2.0/EN
VERSION:2.0
CALSCALE:GREGORIAN
BEGIN:VEVENT
UID:ca3df583544c5c5aba1c4143740f3e4f
DTSTAMP:20260419T215123Z
SUMMARY:7:00pm JDS Board Meeting
DESCRIPTION:Shalom Lehigh Valley\nCommunity Calendar\nhttps://shalomlehighv
 alley.org/calendar/700pm-jds-board-meeting-may-390247\n\nJDS Board Meeting
DTSTART;TZID=America/New_York:20220516T190000
DTEND;TZID=America/New_York:20220516T210000
END:VEVENT
END:VCALENDAR
