BEGIN:VCALENDAR
PRODID:-//eluceo/ical//2.0/EN
VERSION:2.0
CALSCALE:GREGORIAN
BEGIN:VEVENT
UID:4114b70cb6ed7053293c8bb8c8ac1250
DTSTAMP:20260419T154917Z
SUMMARY:7:00PM JDS BOD Meeting
DESCRIPTION:Shalom Lehigh Valley\nCommunity Calendar\nhttps://shalomlehighv
 alley.org/calendar/700pm-jds-bod-meeting-3564\n\n7:00PM JDS BOD Meeting
DTSTART;TZID=America/New_York:20130509T190000
DTEND;TZID=America/New_York:20130509T203000
END:VEVENT
END:VCALENDAR
