BEGIN:VCALENDAR
PRODID:-//eluceo/ical//2.0/EN
VERSION:2.0
CALSCALE:GREGORIAN
BEGIN:VEVENT
UID:92dbd0014cf1757935d09de763890ff7
DTSTAMP:20260420T101245Z
SUMMARY:7:00 pm JDS Executive Board Meeting
DESCRIPTION:Shalom Lehigh Valley\nCommunity Calendar\nhttps://shalomlehighv
 alley.org/calendar/700pm-jds-executive-board-meeting-100114-79934\n\nConta
 ct Melyssa Lentz: mlentz@jdslv.org or 610-437-0721.
DTSTART;TZID=America/New_York:20141001T190000
DTEND;TZID=America/New_York:20141001T210000
END:VEVENT
END:VCALENDAR
