BEGIN:VCALENDAR
PRODID:-//eluceo/ical//2.0/EN
VERSION:2.0
CALSCALE:GREGORIAN
BEGIN:VEVENT
UID:d1b262f3338f070d302b1fc51117b134
DTSTAMP:20260419T215134Z
SUMMARY:7:00PM JFLV Board Meeting
DESCRIPTION:Shalom Lehigh Valley\nCommunity Calendar\nhttps://shalomlehighv
 alley.org/calendar/700pm-jflv-board-meeting2419-289096\n\nJFLV Board Meeti
 ng
DTSTART;TZID=America/New_York:20190204T190000
DTEND;TZID=America/New_York:20190204T210000
END:VEVENT
END:VCALENDAR
