BEGIN:VCALENDAR
PRODID:-//eluceo/ical//2.0/EN
VERSION:2.0
CALSCALE:GREGORIAN
BEGIN:VEVENT
UID:f58c24647bef42e3645345ee486d219b
DTSTAMP:20260420T185320Z
SUMMARY:7:00PM JFLV Board Meeting
DESCRIPTION:Shalom Lehigh Valley\nCommunity Calendar\nhttps://shalomlehighv
 alley.org/calendar/700pm-jflv-board-meeting42919-289092\n\nBoard Meeting
DTSTART;TZID=America/New_York:20190429T190000
DTEND;TZID=America/New_York:20190429T210000
END:VEVENT
END:VCALENDAR
