BEGIN:VCALENDAR
PRODID:-//eluceo/ical//2.0/EN
VERSION:2.0
CALSCALE:GREGORIAN
BEGIN:VEVENT
UID:6a67ebbe29193be5a9c27b40546fbfd9
DTSTAMP:20260420T172745Z
SUMMARY:7:00PM JFLV Leadership Workshop
DESCRIPTION:Shalom Lehigh Valley\nCommunity Calendar\nhttps://shalomlehighv
 alley.org/calendar/700pm-jflv-leadership-workshop10521-388906\n\nMore info
  to follow
DTSTART;TZID=America/New_York:20211005T190000
DTEND;TZID=America/New_York:20211005T210000
END:VEVENT
END:VCALENDAR
