BEGIN:VCALENDAR
PRODID:-//eluceo/ical//2.0/EN
VERSION:2.0
CALSCALE:GREGORIAN
BEGIN:VEVENT
UID:700b97d216c46bfc704bcdf02f80fd31
DTSTAMP:20260419T133302Z
SUMMARY:7:00 pm JFLV Next Dor Meeting
DESCRIPTION:Shalom Lehigh Valley\nCommunity Calendar\nhttps://shalomlehighv
 alley.org/calendar/700pm-jflv-next-dor-meeting101717-230142\n\nMore inform
 ation to follow.
DTSTART;TZID=America/New_York:20171017T190000
DTEND;TZID=America/New_York:20171017T203000
END:VEVENT
END:VCALENDAR
