BEGIN:VCALENDAR
PRODID:-//eluceo/ical//2.0/EN
VERSION:2.0
CALSCALE:GREGORIAN
BEGIN:VEVENT
UID:c8ac1a34d2554d2d63fc204ca2a894e1
DTSTAMP:20260421T201734Z
SUMMARY:7:00 pm JFLV Next Dor Meeting
DESCRIPTION:Shalom Lehigh Valley\nCommunity Calendar\nhttps://shalomlehighv
 alley.org/calendar/700pm-jflv-next-dor-meeting22018-230145\n\nContact: Aar
 on Gorodzinsky aaron@jflv.org or 610-821-5500 x337.
DTSTART;TZID=America/New_York:20180220T190000
DTEND;TZID=America/New_York:20180220T203000
END:VEVENT
END:VCALENDAR
