BEGIN:VCALENDAR
PRODID:-//eluceo/ical//2.0/EN
VERSION:2.0
CALSCALE:GREGORIAN
BEGIN:VEVENT
UID:bb0505afc1c0606df57c2adc34f6a034
DTSTAMP:20260419T230611Z
SUMMARY:7:00 pm JFLV Next Dor Meeting
DESCRIPTION:Shalom Lehigh Valley\nCommunity Calendar\nhttps://shalomlehighv
 alley.org/calendar/700pm-jflv-next-dor-meeting41018-230149\n\nContact: Aar
 on Gorodzinsky aaron@jflv.org or 610-821-5500 x337.
DTSTART;TZID=America/New_York:20180410T190000
DTEND;TZID=America/New_York:20180410T203000
END:VEVENT
END:VCALENDAR
