BEGIN:VCALENDAR
PRODID:-//eluceo/ical//2.0/EN
VERSION:2.0
CALSCALE:GREGORIAN
BEGIN:VEVENT
UID:1d27c62b501c03fff5a02f50951257d3
DTSTAMP:20260421T115351Z
SUMMARY:7:00 pm JFLV Next Dor Meeting
DESCRIPTION:Shalom Lehigh Valley\nCommunity Calendar\nhttps://shalomlehighv
 alley.org/calendar/700pm-jflv-next-dor-meeting83017-230133\n\nMore informa
 tion to follow.
DTSTART;TZID=America/New_York:20170830T190000
DTEND;TZID=America/New_York:20170830T203000
END:VEVENT
END:VCALENDAR
