BEGIN:VCALENDAR
PRODID:-//eluceo/ical//2.0/EN
VERSION:2.0
CALSCALE:GREGORIAN
BEGIN:VEVENT
UID:0bca39176fbcfaeff71eba815047eb1b
DTSTAMP:20260420T064632Z
SUMMARY:7:00pm JWRP "The Power of Speech"
DESCRIPTION:Shalom Lehigh Valley\nCommunity Calendar\nhttps://shalomlehighv
 alley.org/calendar/700pm-jwrp-the-power-of-speech6419-287289\n\nTopic: Be 
 a woman of your word\n\nPrivate Home
DTSTART;TZID=America/New_York:20190604T190000
DTEND;TZID=America/New_York:20190604T203000
END:VEVENT
END:VCALENDAR
