BEGIN:VCALENDAR
PRODID:-//eluceo/ical//2.0/EN
VERSION:2.0
CALSCALE:GREGORIAN
BEGIN:VEVENT
UID:7dc3b43a8f07760c5a4b3dba12127907
DTSTAMP:20260419T142257Z
SUMMARY:7:15 pm JFS Board Meeting
DESCRIPTION:Shalom Lehigh Valley\nCommunity Calendar\nhttps://shalomlehighv
 alley.org/calendar/715-jfs-board-meeting-4-9-19-275124\n\nBoard meeting he
 ld at JFS
DTSTART;TZID=America/New_York:20190409T191500
DTEND;TZID=America/New_York:20190409T211500
END:VEVENT
END:VCALENDAR
