BEGIN:VCALENDAR
PRODID:-//eluceo/ical//2.0/EN
VERSION:2.0
CALSCALE:GREGORIAN
BEGIN:VEVENT
UID:cf9238c6cede7f0d7febaff4a66e817e
DTSTAMP:20260419T173221Z
SUMMARY:7:15 pm CBS Not In God’s Name: Confronting Religious Violence
DESCRIPTION:Shalom Lehigh Valley\nCommunity Calendar\nhttps://shalomlehighv
 alley.org/calendar/715-pm-cbs-not-in-gods-name-confronting-religious-viole
 nce-2-176236\n\nContact Tammy Watts: tammy@brithsholom.net or 610-866-8009
 .
DTSTART;TZID=America/New_York:20160224T191500
DTEND;TZID=America/New_York:20160224T210000
END:VEVENT
END:VCALENDAR
