BEGIN:VCALENDAR
PRODID:-//eluceo/ical//2.0/EN
VERSION:2.0
CALSCALE:GREGORIAN
BEGIN:VEVENT
UID:569ca1ebbd64c426e296d426638f3dcf
DTSTAMP:20260420T003030Z
SUMMARY:7:15 pm CBS Not In God’s Name: Confronting Religious Violence
DESCRIPTION:Shalom Lehigh Valley\nCommunity Calendar\nhttps://shalomlehighv
 alley.org/calendar/715-pm-cbs-not-in-gods-name-confronting-religious-viole
 nce-3-176237\n\nContact Tammy Watts: tammy@brithsholom.net or 610-866-8009
 .
DTSTART;TZID=America/New_York:20160330T191500
DTEND;TZID=America/New_York:20160330T210000
END:VEVENT
END:VCALENDAR
