BEGIN:VCALENDAR
PRODID:-//eluceo/ical//2.0/EN
VERSION:2.0
CALSCALE:GREGORIAN
BEGIN:VEVENT
UID:d78fefb1afd8751beb9c4abb327c6274
DTSTAMP:20260419T201403Z
SUMMARY:7:15 pm JFLV Executive Committee Meeting
DESCRIPTION:Shalom Lehigh Valley\nCommunity Calendar\nhttps://shalomlehighv
 alley.org/calendar/715-pm-jflv-executive-committee-meeting-tentative-4-30-
 18-230799\n\nContact Mark Goldstein: markg@jflv.org/610-821-5500 x325.
DTSTART;TZID=America/New_York:20180430T191500
DTEND;TZID=America/New_York:20180430T211500
END:VEVENT
END:VCALENDAR
