BEGIN:VCALENDAR
PRODID:-//eluceo/ical//2.0/EN
VERSION:2.0
CALSCALE:GREGORIAN
BEGIN:VEVENT
UID:062e77e91af30e4e9284c84286c6fad5
DTSTAMP:20260420T131946Z
SUMMARY:7:15 PM JFS Board Meeting 03-23-2021
DESCRIPTION:Shalom Lehigh Valley\nCommunity Calendar\nhttps://shalomlehighv
 alley.org/calendar/715-pm-jfs-board-meeting-03-23-2021-361932\n\nJFS Board
  Meeting
DTSTART;TZID=America/New_York:20210323T191500
DTEND;TZID=America/New_York:20210323T211500
END:VEVENT
END:VCALENDAR
