BEGIN:VCALENDAR
PRODID:-//eluceo/ical//2.0/EN
VERSION:2.0
CALSCALE:GREGORIAN
BEGIN:VEVENT
UID:01e09cddee0ff72e8fac8c781ea698ef
DTSTAMP:20260420T022054Z
SUMMARY:7:15 PM JFS Board Meeting 09-22-2020
DESCRIPTION:Shalom Lehigh Valley\nCommunity Calendar\nhttps://shalomlehighv
 alley.org/calendar/715-pm-jfs-board-meeting-09-22-2020-358223\n\nJFS Board
  Meeting
DTSTART;TZID=America/New_York:20200922T191500
DTEND;TZID=America/New_York:20200922T211500
END:VEVENT
END:VCALENDAR
