BEGIN:VCALENDAR
PRODID:-//eluceo/ical//2.0/EN
VERSION:2.0
CALSCALE:GREGORIAN
BEGIN:VEVENT
UID:c8d88839ec48b082ac89ba61b1610eaa
DTSTAMP:20260420T003458Z
SUMMARY:7:15 pm JFS Executive Board Meeting
DESCRIPTION:Shalom Lehigh Valley\nCommunity Calendar\nhttps://shalomlehighv
 alley.org/calendar/715-pm-jfs-executive-board-meeting-6-16-15-128874\n\nCo
 ntact Debbie Zoller: 610-821-8722 or dzoller@jfslv.org
DTSTART;TZID=America/New_York:20150616T191500
DTEND;TZID=America/New_York:20150616T201500
END:VEVENT
END:VCALENDAR
