BEGIN:VCALENDAR
PRODID:-//eluceo/ical//2.0/EN
VERSION:2.0
CALSCALE:GREGORIAN
BEGIN:VEVENT
UID:b63ce024d4d3d0387533045abd545cbc
DTSTAMP:20260419T201315Z
SUMMARY:7:15 pm JCC Children's Committee Meeting
DESCRIPTION:Shalom Lehigh Valley\nCommunity Calendar\nhttps://shalomlehighv
 alley.org/calendar/715pm-jcc-childrens-committee-meeting-Sept2015-139842\n
 \nContact Brenda Finberg: bfinberg@lvjcc.org or 610-435-3571.
DTSTART;TZID=America/New_York:20150916T191500
DTEND;TZID=America/New_York:20150916T210000
END:VEVENT
END:VCALENDAR
