BEGIN:VCALENDAR
PRODID:-//eluceo/ical//2.0/EN
VERSION:2.0
CALSCALE:GREGORIAN
BEGIN:VEVENT
UID:b5332bc8cd921fcf3bdaa5c1c9d834cb
DTSTAMP:20260421T074829Z
SUMMARY:7:15pm JCC Weight Loss Support Group
DESCRIPTION:Shalom Lehigh Valley\nCommunity Calendar\nhttps://shalomlehighv
 alley.org/calendar/715pm-jcc-weight-loss-support-group-295325\n\nThe missi
 on is to support and guide individuals along the way on your weight loss\n
 journey. We will have a weekly meeting where everyone can come and discuss
  your triumphs and struggles.\nFeedback\, strategies\, and follow up is pr
 ovided.\n\nMember Price: $90\nNon-Member Price: $135
DTSTART;TZID=America/New_York:20190219T191500
DTEND;TZID=America/New_York:20190219T201500
END:VEVENT
END:VCALENDAR
