BEGIN:VCALENDAR
PRODID:-//eluceo/ical//2.0/EN
VERSION:2.0
CALSCALE:GREGORIAN
BEGIN:VEVENT
UID:f9ffe88320a6c553d2157168fc64c097
DTSTAMP:20260420T214357Z
SUMMARY:7:30 p.m. CSOI Board Meeting
DESCRIPTION:Shalom Lehigh Valley\nCommunity Calendar\nhttps://shalomlehighv
 alley.org/calendar/730-pm-csoi-board-meeting-423816\n\nCongregation Sons o
 f Israel's monthly Board meeting will be held at 7:30 p.m.
DTSTART;TZID=America/New_York:20230125T193000
DTEND;TZID=America/New_York:20230125T210000
END:VEVENT
END:VCALENDAR
