BEGIN:VCALENDAR
PRODID:-//eluceo/ical//2.0/EN
VERSION:2.0
CALSCALE:GREGORIAN
BEGIN:VEVENT
UID:10f4373090f9e2cc4851edf488becd9a
DTSTAMP:20260420T125858Z
SUMMARY:7:30 pm JCC Board of Directors Meeting
DESCRIPTION:Shalom Lehigh Valley\nCommunity Calendar\nhttps://shalomlehighv
 alley.org/calendar/730-pm-jcc-board-of-directors-meeting-9-22-16-181055\n\
 nContact Jeffrey Rembrandt: jrembrandt@lvjcc.org or 610-435-3571 x120.
DTSTART;TZID=America/New_York:20160922T193000
DTEND;TZID=America/New_York:20160922T210000
END:VEVENT
END:VCALENDAR
