BEGIN:VCALENDAR
PRODID:-//eluceo/ical//2.0/EN
VERSION:2.0
CALSCALE:GREGORIAN
BEGIN:VEVENT
UID:9330ade7ce9108e7269d6ee338e5f75d
DTSTAMP:20260419T162025Z
SUMMARY:7:30 pm JCC Executive Committee Meeting
DESCRIPTION:Shalom Lehigh Valley\nCommunity Calendar\nhttps://shalomlehighv
 alley.org/calendar/730-pm-jcc-executive-committee-meeting-June-2015-67339\
 n\nContact Karla Lyle: klyle@lvjcc.org or 610-435-3571 x119
DTSTART;TZID=America/New_York:20150608T193000
DTEND;TZID=America/New_York:20150608T210000
END:VEVENT
END:VCALENDAR
