BEGIN:VCALENDAR
PRODID:-//eluceo/ical//2.0/EN
VERSION:2.0
CALSCALE:GREGORIAN
BEGIN:VEVENT
UID:4d7cc20447735c795fa73d8f89daab26
DTSTAMP:20260420T180116Z
SUMMARY:7:30 pm JCC Executive Committee Meeting
DESCRIPTION:Shalom Lehigh Valley\nCommunity Calendar\nhttps://shalomlehighv
 alley.org/calendar/730-pm-jcc-executive-committee-meeting-july-aug-2018-26
 4716\n\nContact Karla Lyle: klyle@lvjcc.org or 610-435-3571 x119.
DTSTART;TZID=America/New_York:20180709T193000
DTEND;TZID=America/New_York:20180709T210000
END:VEVENT
END:VCALENDAR
