BEGIN:VCALENDAR
PRODID:-//eluceo/ical//2.0/EN
VERSION:2.0
CALSCALE:GREGORIAN
BEGIN:VEVENT
UID:e28015ab950fb0d5c4c34bc76e9f5a78
DTSTAMP:20260420T185300Z
SUMMARY:7:30 pm JCC Executive Committee Meeting
DESCRIPTION:Shalom Lehigh Valley\nCommunity Calendar\nhttps://shalomlehighv
 alley.org/calendar/730-pm-jcc-executive-committee-meetingAug2014-67329\n\n
 Contact Karla Lyle: klyle@lvjcc.org or 610-435-3571 x119
DTSTART;TZID=America/New_York:20140813T193000
DTEND;TZID=America/New_York:20140813T210000
END:VEVENT
END:VCALENDAR
