BEGIN:VCALENDAR
PRODID:-//eluceo/ical//2.0/EN
VERSION:2.0
CALSCALE:GREGORIAN
BEGIN:VEVENT
UID:b8f6e4a906aa507e3b36d5199d078d4e
DTSTAMP:20260420T191917Z
SUMMARY:7:30 pm JDS Annual Gala
DESCRIPTION:Shalom Lehigh Valley\nCommunity Calendar\nhttps://shalomlehighv
 alley.org/calendar/730-pm-jds-annual-gala-12-3-16-196902\n\nBlack tie opti
 onal. RSVP by November 10th to Adrienne Manger: amanger@jdslv.org or 610-4
 37-0721.
DTSTART;TZID=America/New_York:20161203T193000
DTEND;TZID=America/New_York:20161203T223000
END:VEVENT
END:VCALENDAR
