BEGIN:VCALENDAR
PRODID:-//eluceo/ical//2.0/EN
VERSION:2.0
CALSCALE:GREGORIAN
BEGIN:VEVENT
UID:b7e3b02b20fdbbba7a4d754eb9d8755e
DTSTAMP:20260419T145227Z
SUMMARY:7:30 pm JDS Board Meeting
DESCRIPTION:Shalom Lehigh Valley\nCommunity Calendar\nhttps://shalomlehighv
 alley.org/calendar/730-pm-jds-board-meeting-8-18-16-192024\n\nContact Adri
 enne Manger: amanger@jdslv.org or 610-437-0721.
DTSTART;TZID=America/New_York:20160818T193000
DTEND;TZID=America/New_York:20160818T213000
END:VEVENT
END:VCALENDAR
