BEGIN:VCALENDAR
PRODID:-//eluceo/ical//2.0/EN
VERSION:2.0
CALSCALE:GREGORIAN
BEGIN:VEVENT
UID:8f67d8aa82406c046c549fb4f013d7fb
DTSTAMP:20260419T174135Z
SUMMARY:7:30 pm KI Adult Hebrew Class Shabbat Service
DESCRIPTION:Shalom Lehigh Valley\nCommunity Calendar\nhttps://shalomlehighv
 alley.org/calendar/730-pm-ki-adult-hebrew-class-shabbat-service-5-13-16-18
 3920\n\nContact Vikki Dunn: vdunn@kilv.org or 610-435-9074.
DTSTART;TZID=America/New_York:20160513T193000
DTEND;TZID=America/New_York:20160513T220000
END:VEVENT
END:VCALENDAR
