BEGIN:VCALENDAR
PRODID:-//eluceo/ical//2.0/EN
VERSION:2.0
CALSCALE:GREGORIAN
BEGIN:VEVENT
UID:a116b06b26ee25ff0de818c604bc5ecd
DTSTAMP:20260420T142230Z
SUMMARY:7:30 PM KI Chairs on the Stairs
DESCRIPTION:Shalom Lehigh Valley\nCommunity Calendar\nhttps://shalomlehighv
 alley.org/calendar/730-pm-ki-chairs-on-the-stairs-312081\n\nBring you own 
 chairs to view Allentown fireworks.  Bring food or drink to share.  FREE
 \, no RSVP required.
DTSTART;TZID=America/New_York:20190704T193000
DTEND;TZID=America/New_York:20190704T213000
END:VEVENT
END:VCALENDAR
