BEGIN:VCALENDAR
PRODID:-//eluceo/ical//2.0/EN
VERSION:2.0
CALSCALE:GREGORIAN
BEGIN:VEVENT
UID:6e9d13c55e761a2e5b0059818f2677d3
DTSTAMP:20260421T050511Z
SUMMARY:7:30 pm KI Friday Night Live!
DESCRIPTION:Shalom Lehigh Valley\nCommunity Calendar\nhttps://shalomlehighv
 alley.org/calendar/730-pm-ki-friday-night-live-80234\n\nContact Vikki Dunn
 : 610-435-9074 or vdunn@kilv.org.
DTSTART;TZID=America/New_York:20141212T193000
DTEND;TZID=America/New_York:20141212T210000
END:VEVENT
END:VCALENDAR
