BEGIN:VCALENDAR
PRODID:-//eluceo/ical//2.0/EN
VERSION:2.0
CALSCALE:GREGORIAN
BEGIN:VEVENT
UID:f9733a8de2b063ce94f75ee4914abdba
DTSTAMP:20260420T192639Z
SUMMARY:7:30 PM KI Special Shabbat Service
DESCRIPTION:Shalom Lehigh Valley\nCommunity Calendar\nhttps://shalomlehighv
 alley.org/calendar/730-pm-ki-special-shabbat-service-289246\n\nFeaturing t
 he Congregational Choir
DTSTART;TZID=America/New_York:20181012T193000
DTEND;TZID=America/New_York:20181012T213000
END:VEVENT
END:VCALENDAR
