BEGIN:VCALENDAR
PRODID:-//eluceo/ical//2.0/EN
VERSION:2.0
CALSCALE:GREGORIAN
BEGIN:VEVENT
UID:90a8303db3212ced59d9f8364d9bead6
DTSTAMP:20260420T172755Z
SUMMARY:7:30 PM KI Torah Service August
DESCRIPTION:Shalom Lehigh Valley\nCommunity Calendar\nhttps://shalomlehighv
 alley.org/calendar/730-pm-ki-torah-service-august-277527\n\nKI Torah Servi
 ce during Shabbat Service
DTSTART;TZID=America/New_York:20180817T193000
DTEND;TZID=America/New_York:20180817T213000
END:VEVENT
END:VCALENDAR
