BEGIN:VCALENDAR
PRODID:-//eluceo/ical//2.0/EN
VERSION:2.0
CALSCALE:GREGORIAN
BEGIN:VEVENT
UID:11e716b1e212334db9d45f70c5c0e399
DTSTAMP:20260419T201343Z
SUMMARY:7:30 PM KI Women of KI Creative Shabbat Service
DESCRIPTION:Shalom Lehigh Valley\nCommunity Calendar\nhttps://shalomlehighv
 alley.org/calendar/730-pm-ki-women-of-ki-creative-shabbat-service-404312\n
 \nJoin us for the Women of KI Creative Shabbat on Service and festive oneg
 ! \n\nDate: Friday\, May 20\n\nTime: 7:30 pm\n\nWhere: Congregation Kenes
 eth Israel
DTSTART;TZID=America/New_York:20220617T193000
DTEND;TZID=America/New_York:20220617T210000
END:VEVENT
END:VCALENDAR
