BEGIN:VCALENDAR
PRODID:-//eluceo/ical//2.0/EN
VERSION:2.0
CALSCALE:GREGORIAN
BEGIN:VEVENT
UID:be7120d10fe1283f6278d3b43120d971
DTSTAMP:20260420T175345Z
SUMMARY:7:30 pm MUH Presents Shaanan Street from Hadag Nahash
DESCRIPTION:Shalom Lehigh Valley\nCommunity Calendar\nhttps://shalomlehighv
 alley.org/calendar/730-pm-muh-presents-shaanan-street-from-hadag-nahash-11
 -3-16-208308\n\nContact Rabbi Melissa Simon at 484-664-3244 or msimon@muhl
 enberg.edu
DTSTART;TZID=America/New_York:20161103T193000
DTEND;TZID=America/New_York:20161103T213000
END:VEVENT
END:VCALENDAR
