BEGIN:VCALENDAR
PRODID:-//eluceo/ical//2.0/EN
VERSION:2.0
CALSCALE:GREGORIAN
BEGIN:VEVENT
UID:783e1ba79a5ce0d623f385075c17a0bd
DTSTAMP:20260420T055143Z
SUMMARY:7:30 pm SOI Class - Judaism's Stance on Organ Donation
DESCRIPTION:Shalom Lehigh Valley\nCommunity Calendar\nhttps://shalomlehighv
 alley.org/calendar/730-pm-soi-class-on-judaisms-stance-on-organ-donation-1
 75164\n\nFree and open to the community. Contact April Daughtery: April271
 5@gmail.com or 610-433-6089.
DTSTART;TZID=America/New_York:20160127T193000
DTEND;TZID=America/New_York:20160127T210000
END:VEVENT
END:VCALENDAR
