BEGIN:VCALENDAR
PRODID:-//eluceo/ical//2.0/EN
VERSION:2.0
CALSCALE:GREGORIAN
BEGIN:VEVENT
UID:e36f90045f4cf33a141f931a0c936d14
DTSTAMP:20260420T103853Z
SUMMARY:7:30 pm SOI Class - Separating Conjoined Twins
DESCRIPTION:Shalom Lehigh Valley\nCommunity Calendar\nhttps://shalomlehighv
 alley.org/calendar/730-pm-soi-class-on-separating-conjoined-twins-175163\n
 \nFree and open to the community. Contact April Daughtery: April2715@gmail
 .com or 610-433-6089.
DTSTART;TZID=America/New_York:20160113T193000
DTEND;TZID=America/New_York:20160113T210000
END:VEVENT
END:VCALENDAR
