BEGIN:VCALENDAR
PRODID:-//eluceo/ical//2.0/EN
VERSION:2.0
CALSCALE:GREGORIAN
BEGIN:VEVENT
UID:e55abb4d12b0eb2de0bffe3e36be175a
DTSTAMP:20260419T225948Z
SUMMARY:7:30 pm TBE 5th Grade Led Service
DESCRIPTION:Shalom Lehigh Valley\nCommunity Calendar\nhttps://shalomlehighv
 alley.org/calendar/730-pm-tbe-5th-grade-led-service-3516\n\n7:30 pm TBE 5t
 h Grade Led Service
DTSTART;TZID=America/New_York:20140207T193000
DTEND;TZID=America/New_York:20140207T203000
END:VEVENT
END:VCALENDAR
