BEGIN:VCALENDAR
PRODID:-//eluceo/ical//2.0/EN
VERSION:2.0
CALSCALE:GREGORIAN
BEGIN:VEVENT
UID:89c4a8b173aae9b8e9c4facbbfa379b8
DTSTAMP:20260420T214437Z
SUMMARY:7:30 pm TBE Board Meeting
DESCRIPTION:Shalom Lehigh Valley\nCommunity Calendar\nhttps://shalomlehighv
 alley.org/calendar/730-pm-tbe-Marchboard-meeting-67203\n\nContact Michelle
  Rohrbach: michelle@bethelallentown.org or 610-435-3521
DTSTART;TZID=America/New_York:20150311T193000
DTEND;TZID=America/New_York:20150311T210000
END:VEVENT
END:VCALENDAR
