BEGIN:VCALENDAR
PRODID:-//eluceo/ical//2.0/EN
VERSION:2.0
CALSCALE:GREGORIAN
BEGIN:VEVENT
UID:289afb53f0acb407e4f96905abad672d
DTSTAMP:20260420T161321Z
SUMMARY:7:30 pm TBE Board Meeting
DESCRIPTION:Shalom Lehigh Valley\nCommunity Calendar\nhttps://shalomlehighv
 alley.org/calendar/730-pm-tbe-board-meeting-2-14-18-225042\n\nContact Mich
 elle Rohrbach: michelle@bethelallentown.org or 610-435-3521.
DTSTART;TZID=America/New_York:20180214T193000
DTEND;TZID=America/New_York:20180214T210000
END:VEVENT
END:VCALENDAR
