BEGIN:VCALENDAR
PRODID:-//eluceo/ical//2.0/EN
VERSION:2.0
CALSCALE:GREGORIAN
BEGIN:VEVENT
UID:85e72a985bd7d4b275809e14d6fb8faf
DTSTAMP:20260420T112916Z
SUMMARY:7:30 pm TBE Board Meeting
DESCRIPTION:Shalom Lehigh Valley\nCommunity Calendar\nhttps://shalomlehighv
 alley.org/calendar/730-pm-tbe-board-meeting-4-10-19-266039\n\nContact Mich
 elle Rohrbach: michelle@bethelallentown.org or 610-435-3521.
DTSTART;TZID=America/New_York:20190410T193000
DTEND;TZID=America/New_York:20190410T210000
END:VEVENT
END:VCALENDAR
