BEGIN:VCALENDAR
PRODID:-//eluceo/ical//2.0/EN
VERSION:2.0
CALSCALE:GREGORIAN
BEGIN:VEVENT
UID:5ad6b8a5401d795c921cc59221ed16dc
DTSTAMP:20260419T161509Z
SUMMARY:7:30 pm TBE Board Meeting
DESCRIPTION:Shalom Lehigh Valley\nCommunity Calendar\nhttps://shalomlehighv
 alley.org/calendar/730-pm-tbe-board-meeting-4-5-17-187701\n\nContact Miche
 lle Rohrbach: michelle@bethelallentown.org or 610-435-3521.
DTSTART;TZID=America/New_York:20170405T193000
DTEND;TZID=America/New_York:20170405T210000
END:VEVENT
END:VCALENDAR
