BEGIN:VCALENDAR
PRODID:-//eluceo/ical//2.0/EN
VERSION:2.0
CALSCALE:GREGORIAN
BEGIN:VEVENT
UID:a8508994805d1c5c72244522b8ea37b4
DTSTAMP:20260421T084806Z
SUMMARY:7:30 pm TBE Board Meeting
DESCRIPTION:Shalom Lehigh Valley\nCommunity Calendar\nhttps://shalomlehighv
 alley.org/calendar/730-pm-tbe-board-meeting-8-9-17-224871\n\nContact Miche
 lle Rohrbach: michelle@bethelallentown.org or 610-435-3521.
DTSTART;TZID=America/New_York:20170809T193000
DTEND;TZID=America/New_York:20170809T213000
END:VEVENT
END:VCALENDAR
