BEGIN:VCALENDAR
PRODID:-//eluceo/ical//2.0/EN
VERSION:2.0
CALSCALE:GREGORIAN
BEGIN:VEVENT
UID:26aec0a3591d2058c51626ebb9fa2307
DTSTAMP:20260419T161923Z
SUMMARY:7:30 pm TBE Board Meeting
DESCRIPTION:Shalom Lehigh Valley\nCommunity Calendar\nhttps://shalomlehighv
 alley.org/calendar/730-pm-tbe-board-meeting-9-13-17-224882\n\nContact Mich
 elle Rohrbach: michelle@bethelallentown.org or 610-435-3521.
DTSTART;TZID=America/New_York:20170913T193000
DTEND;TZID=America/New_York:20170913T213000
END:VEVENT
END:VCALENDAR
