BEGIN:VCALENDAR
PRODID:-//eluceo/ical//2.0/EN
VERSION:2.0
CALSCALE:GREGORIAN
BEGIN:VEVENT
UID:98b4ce32d5f24c8c264876009befcca9
DTSTAMP:20260419T173211Z
SUMMARY:7:30 pm TBE Board Meeting
DESCRIPTION:Shalom Lehigh Valley\nCommunity Calendar\nhttps://shalomlehighv
 alley.org/calendar/730-pm-tbe-board-meeting-aug-8-8-18-265651\n\nContact M
 ichelle Rohrbach: michelle@bethelallentown.org or 610-435-3521.
DTSTART;TZID=America/New_York:20180808T193000
DTEND;TZID=America/New_York:20180808T210000
END:VEVENT
END:VCALENDAR
