BEGIN:VCALENDAR
PRODID:-//eluceo/ical//2.0/EN
VERSION:2.0
CALSCALE:GREGORIAN
BEGIN:VEVENT
UID:154c896e1a562b204594e1d9559ff686
DTSTAMP:20260421T065427Z
SUMMARY:7:30 pm TBE Board Meeting  August 10 2021
DESCRIPTION:Shalom Lehigh Valley\nCommunity Calendar\nhttps://shalomlehighv
 alley.org/calendar/730-pm-tbe-board-meeting-august-10-2021-386925\n\n7:30 
 pm TBE Board Meeting August 2021
DTSTART;TZID=America/New_York:20210810T193000
DTEND;TZID=America/New_York:20210810T203000
END:VEVENT
END:VCALENDAR
